Package: RedeR Version: 2.4.3 Command: /home/biocbuild/bbs-3.17-bioc/R/bin/R CMD build --keep-empty-dirs --no-resave-data RedeR StartedAt: 2023-10-15 18:09:12 -0400 (Sun, 15 Oct 2023) EndedAt: 2023-10-15 18:09:24 -0400 (Sun, 15 Oct 2023) EllapsedTime: 12.9 seconds RetCode: 0 Status: OK PackageFile: RedeR_2.4.3.tar.gz PackageFileSize: 8.394 MiB