Package: ReactomeGraph4R Version: 1.8.0 Command: /home/biocbuild/bbs-3.17-bioc/R/bin/R CMD INSTALL ReactomeGraph4R StartedAt: 2023-10-15 15:27:02 -0400 (Sun, 15 Oct 2023) EndedAt: 2023-10-15 15:27:07 -0400 (Sun, 15 Oct 2023) EllapsedTime: 4.8 seconds RetCode: 0 Status: OK