Package: ReactomeGSA Version: 1.14.0 Command: chmod a+r ReactomeGSA -R && F:\biocbuild\bbs-3.17-bioc\R\bin\R.exe CMD build --keep-empty-dirs --no-resave-data ReactomeGSA StartedAt: 2023-10-15 21:42:18 -0400 (Sun, 15 Oct 2023) EndedAt: 2023-10-15 21:45:51 -0400 (Sun, 15 Oct 2023) EllapsedTime: 212.6 seconds RetCode: 0 Status: OK PackageFile: ReactomeGSA_1.14.0.tar.gz PackageFileSize: 131.2 KiB