Package: ReactomeGSA Version: 1.14.0 Command: /Library/Frameworks/R.framework/Resources/bin/R CMD build --keep-empty-dirs --no-resave-data ReactomeGSA StartedAt: 2023-10-15 20:35:30 -0400 (Sun, 15 Oct 2023) EndedAt: 2023-10-15 20:40:46 -0400 (Sun, 15 Oct 2023) EllapsedTime: 315.9 seconds RetCode: 0 Status: OK PackageFile: ReactomeGSA_1.14.0.tar.gz PackageFileSize: 256.4 KiB