Package: ReactomeContentService4R Version: 1.8.0 Command: chmod a+r ReactomeContentService4R -R && F:\biocbuild\bbs-3.17-bioc\R\bin\R.exe CMD build --keep-empty-dirs --no-resave-data ReactomeContentService4R StartedAt: 2023-10-15 21:42:10 -0400 (Sun, 15 Oct 2023) EndedAt: 2023-10-15 21:43:10 -0400 (Sun, 15 Oct 2023) EllapsedTime: 60.8 seconds RetCode: 0 Status: OK PackageFile: ReactomeContentService4R_1.8.0.tar.gz PackageFileSize: 2.279 MiB