Package: ReactomeContentService4R Version: 1.8.0 Command: /Library/Frameworks/R.framework/Resources/bin/R CMD check --install=check:ReactomeContentService4R.install-out.txt --library=/Library/Frameworks/R.framework/Resources/library --no-vignettes --timings ReactomeContentService4R_1.8.0.tar.gz StartedAt: 2023-10-16 05:53:11 -0400 (Mon, 16 Oct 2023) EndedAt: 2023-10-16 05:54:31 -0400 (Mon, 16 Oct 2023) EllapsedTime: 80.0 seconds RetCode: 0 Status: OK CheckDir: ReactomeContentService4R.Rcheck Warnings: 0