Package: RcisTarget Version: 1.20.0 Command: /Library/Frameworks/R.framework/Resources/bin/R CMD build --keep-empty-dirs --no-resave-data RcisTarget StartedAt: 2023-10-15 20:33:49 -0400 (Sun, 15 Oct 2023) EndedAt: 2023-10-15 20:36:56 -0400 (Sun, 15 Oct 2023) EllapsedTime: 187.2 seconds RetCode: 0 Status: OK PackageFile: RcisTarget_1.20.0.tar.gz PackageFileSize: 12.55 MiB