Package: RbcBook1 Version: 1.68.0 Command: /home/biocbuild/bbs-3.17-bioc/R/bin/R CMD build --keep-empty-dirs --no-resave-data RbcBook1 StartedAt: 2023-10-15 18:06:28 -0400 (Sun, 15 Oct 2023) EndedAt: 2023-10-15 18:06:36 -0400 (Sun, 15 Oct 2023) EllapsedTime: 8.3 seconds RetCode: 0 Status: OK PackageFile: RbcBook1_1.68.0.tar.gz PackageFileSize: 6.393 MiB