Package: RandomWalkRestartMH Version: 1.20.0 Command: /home/biocbuild/bbs-3.17-bioc/R/bin/R CMD INSTALL RandomWalkRestartMH StartedAt: 2023-10-15 15:25:13 -0400 (Sun, 15 Oct 2023) EndedAt: 2023-10-15 15:25:24 -0400 (Sun, 15 Oct 2023) EllapsedTime: 11.5 seconds RetCode: 0 Status: OK