Package: RandomWalkRestartMH Version: 1.20.0 Command: /home/biocbuild/bbs-3.17-bioc/R/bin/R CMD build --keep-empty-dirs --no-resave-data RandomWalkRestartMH StartedAt: 2023-10-15 18:06:01 -0400 (Sun, 15 Oct 2023) EndedAt: 2023-10-15 18:07:54 -0400 (Sun, 15 Oct 2023) EllapsedTime: 113.2 seconds RetCode: 0 Status: OK PackageFile: RandomWalkRestartMH_1.20.0.tar.gz PackageFileSize: 6.423 MiB