Package: RandomWalkRestartMH Version: 1.20.0 Command: /Library/Frameworks/R.framework/Resources/bin/R CMD build --keep-empty-dirs --no-resave-data RandomWalkRestartMH StartedAt: 2023-10-15 20:31:05 -0400 (Sun, 15 Oct 2023) EndedAt: 2023-10-15 20:35:19 -0400 (Sun, 15 Oct 2023) EllapsedTime: 253.3 seconds RetCode: 0 Status: OK PackageFile: RandomWalkRestartMH_1.20.0.tar.gz PackageFileSize: 6.497 MiB