Package: RandomWalkRestartMH Version: 1.20.0 Command: rm -rf RandomWalkRestartMH.buildbin-libdir && mkdir RandomWalkRestartMH.buildbin-libdir && /Users/biocbuild/BBS/utils/build-universal.sh RandomWalkRestartMH_1.20.0.tar.gz /Library/Frameworks/R.framework/Resources/bin/R RandomWalkRestartMH.buildbin-libdir StartedAt: 2023-10-16 09:59:51 -0400 (Mon, 16 Oct 2023) EndedAt: 2023-10-16 10:00:30 -0400 (Mon, 16 Oct 2023) EllapsedTime: 38.7 seconds RetCode: 0 Status: OK PackageFile: RandomWalkRestartMH_1.20.0.tgz PackageFileSize: 2.844 MiB