Package: RUVnormalize Version: 1.34.0 Command: /home/biocbuild/bbs-3.17-bioc/R/bin/R CMD build --keep-empty-dirs --no-resave-data RUVnormalize StartedAt: 2023-10-15 18:19:56 -0400 (Sun, 15 Oct 2023) EndedAt: 2023-10-15 18:20:09 -0400 (Sun, 15 Oct 2023) EllapsedTime: 12.7 seconds RetCode: 0 Status: OK PackageFile: RUVnormalize_1.34.0.tar.gz PackageFileSize: 191.3 KiB