Package: RUVnormalize Version: 1.34.0 Command: rm -rf RUVnormalize.buildbin-libdir && mkdir RUVnormalize.buildbin-libdir && /Users/biocbuild/BBS/utils/build-universal.sh RUVnormalize_1.34.0.tar.gz /Library/Frameworks/R.framework/Resources/bin/R RUVnormalize.buildbin-libdir StartedAt: 2023-10-16 10:07:46 -0400 (Mon, 16 Oct 2023) EndedAt: 2023-10-16 10:07:58 -0400 (Mon, 16 Oct 2023) EllapsedTime: 12.3 seconds RetCode: 0 Status: OK PackageFile: RUVnormalize_1.34.0.tgz PackageFileSize: 221.3 KiB