Package: RUVcorr Version: 1.32.0 Command: /home/biocbuild/bbs-3.17-bioc/R/bin/R CMD build --keep-empty-dirs --no-resave-data RUVcorr StartedAt: 2023-10-15 18:19:43 -0400 (Sun, 15 Oct 2023) EndedAt: 2023-10-15 18:20:25 -0400 (Sun, 15 Oct 2023) EllapsedTime: 42.6 seconds RetCode: 0 Status: OK PackageFile: RUVcorr_1.32.0.tar.gz PackageFileSize: 495.5 KiB