Package: RUVSeq Version: 1.34.0 Command: /home/biocbuild/bbs-3.17-bioc/R/bin/R CMD build --keep-empty-dirs --no-resave-data RUVSeq StartedAt: 2023-10-15 18:19:59 -0400 (Sun, 15 Oct 2023) EndedAt: 2023-10-15 18:21:32 -0400 (Sun, 15 Oct 2023) EllapsedTime: 93.2 seconds RetCode: 0 Status: OK PackageFile: RUVSeq_1.34.0.tar.gz PackageFileSize: 451.6 KiB