Package: RTCGAToolbox Version: 2.30.0 Command: /home/biocbuild/bbs-3.17-bioc/R/bin/R CMD INSTALL RTCGAToolbox StartedAt: 2023-10-15 15:24:33 -0400 (Sun, 15 Oct 2023) EndedAt: 2023-10-15 15:24:56 -0400 (Sun, 15 Oct 2023) EllapsedTime: 22.6 seconds RetCode: 0 Status: OK