Package: RTCGAToolbox Version: 2.30.0 Command: /home/biocbuild/bbs-3.17-bioc/R/bin/R CMD check --install=check:RTCGAToolbox.install-out.txt --library=/home/biocbuild/bbs-3.17-bioc/R/site-library --timings RTCGAToolbox_2.30.0.tar.gz StartedAt: 2023-10-16 00:39:04 -0400 (Mon, 16 Oct 2023) EndedAt: 2023-10-16 00:42:29 -0400 (Mon, 16 Oct 2023) EllapsedTime: 205.2 seconds RetCode: 0 Status: OK CheckDir: RTCGAToolbox.Rcheck Warnings: 0