Package: RTCGA Version: 1.30.0 Command: /Library/Frameworks/R.framework/Resources/bin/R CMD build --keep-empty-dirs --no-resave-data RTCGA StartedAt: 2023-10-15 20:52:43 -0400 (Sun, 15 Oct 2023) EndedAt: 2023-10-15 20:53:13 -0400 (Sun, 15 Oct 2023) EllapsedTime: 29.5 seconds RetCode: 0 Status: OK PackageFile: RTCGA_1.30.0.tar.gz PackageFileSize: 2.337 MiB