Package: RTCA Version: 1.52.0 Command: /home/biocbuild/bbs-3.17-bioc/R/bin/R CMD build --keep-empty-dirs --no-resave-data RTCA StartedAt: 2023-10-15 18:18:56 -0400 (Sun, 15 Oct 2023) EndedAt: 2023-10-15 18:19:05 -0400 (Sun, 15 Oct 2023) EllapsedTime: 9.6 seconds RetCode: 0 Status: OK PackageFile: RTCA_1.52.0.tar.gz PackageFileSize: 337.1 KiB