Package: RTCA Version: 1.52.0 Command: /Library/Frameworks/R.framework/Resources/bin/R CMD build --keep-empty-dirs --no-resave-data RTCA StartedAt: 2023-10-15 20:52:42 -0400 (Sun, 15 Oct 2023) EndedAt: 2023-10-15 20:53:14 -0400 (Sun, 15 Oct 2023) EllapsedTime: 31.7 seconds RetCode: 0 Status: OK PackageFile: RTCA_1.52.0.tar.gz PackageFileSize: 334.7 KiB