Package: RTCA Version: 1.52.0 Command: rm -rf RTCA.buildbin-libdir && mkdir RTCA.buildbin-libdir && /Users/biocbuild/BBS/utils/build-universal.sh RTCA_1.52.0.tar.gz /Library/Frameworks/R.framework/Resources/bin/R RTCA.buildbin-libdir StartedAt: 2023-10-16 10:07:07 -0400 (Mon, 16 Oct 2023) EndedAt: 2023-10-16 10:07:26 -0400 (Mon, 16 Oct 2023) EllapsedTime: 18.5 seconds RetCode: 0 Status: OK PackageFile: RTCA_1.52.0.tgz PackageFileSize: 591.6 KiB