Package: ROntoTools Version: 2.28.0 Command: /home/biocbuild/bbs-3.17-bioc/R/bin/R CMD build --keep-empty-dirs --no-resave-data ROntoTools StartedAt: 2023-10-15 18:16:55 -0400 (Sun, 15 Oct 2023) EndedAt: 2023-10-15 18:17:35 -0400 (Sun, 15 Oct 2023) EllapsedTime: 40.0 seconds RetCode: 0 Status: OK PackageFile: ROntoTools_2.28.0.tar.gz PackageFileSize: 1.353 MiB