Package: ROSeq Version: 1.12.0 Command: /home/biocbuild/bbs-3.17-bioc/R/bin/R CMD build --keep-empty-dirs --no-resave-data ROSeq StartedAt: 2023-10-15 18:17:22 -0400 (Sun, 15 Oct 2023) EndedAt: 2023-10-15 18:19:56 -0400 (Sun, 15 Oct 2023) EllapsedTime: 154.2 seconds RetCode: 0 Status: OK PackageFile: ROSeq_1.12.0.tar.gz PackageFileSize: 4.19 MiB