Package: ROCpAI Version: 1.12.0 Command: /home/biocbuild/bbs-3.17-bioc/R/bin/R CMD build --keep-empty-dirs --no-resave-data ROCpAI StartedAt: 2023-10-15 18:16:22 -0400 (Sun, 15 Oct 2023) EndedAt: 2023-10-15 18:16:51 -0400 (Sun, 15 Oct 2023) EllapsedTime: 29.3 seconds RetCode: 0 Status: OK PackageFile: ROCpAI_1.12.0.tar.gz PackageFileSize: 397 KiB