Package: ROCpAI Version: 1.12.0 Command: /Library/Frameworks/R.framework/Resources/bin/R CMD build --keep-empty-dirs --no-resave-data ROCpAI StartedAt: 2023-10-15 20:48:18 -0400 (Sun, 15 Oct 2023) EndedAt: 2023-10-15 20:49:29 -0400 (Sun, 15 Oct 2023) EllapsedTime: 70.5 seconds RetCode: 0 Status: OK PackageFile: ROCpAI_1.12.0.tar.gz PackageFileSize: 401.2 KiB