Package: ROCpAI Version: 1.12.0 Command: rm -rf ROCpAI.buildbin-libdir && mkdir ROCpAI.buildbin-libdir && /Users/biocbuild/BBS/utils/build-universal.sh ROCpAI_1.12.0.tar.gz /Library/Frameworks/R.framework/Resources/bin/R ROCpAI.buildbin-libdir StartedAt: 2023-10-16 10:05:55 -0400 (Mon, 16 Oct 2023) EndedAt: 2023-10-16 10:07:04 -0400 (Mon, 16 Oct 2023) EllapsedTime: 69.0 seconds RetCode: 0 Status: OK PackageFile: ROCpAI_1.12.0.tgz PackageFileSize: 439.2 KiB