Package: RNAmodR Version: 1.14.0 Command: /home/biocbuild/bbs-3.17-bioc/R/bin/R CMD build --keep-empty-dirs --no-resave-data RNAmodR StartedAt: 2023-10-15 18:15:26 -0400 (Sun, 15 Oct 2023) EndedAt: 2023-10-15 18:18:33 -0400 (Sun, 15 Oct 2023) EllapsedTime: 186.3 seconds RetCode: 0 Status: OK PackageFile: RNAmodR_1.14.0.tar.gz PackageFileSize: 1.45 MiB