Package: RNAmodR.ML Version: 1.14.0 Command: /home/biocbuild/bbs-3.17-bioc/R/bin/R CMD build --keep-empty-dirs --no-resave-data RNAmodR.ML StartedAt: 2023-10-15 18:15:35 -0400 (Sun, 15 Oct 2023) EndedAt: 2023-10-15 18:18:52 -0400 (Sun, 15 Oct 2023) EllapsedTime: 197.3 seconds RetCode: 0 Status: OK PackageFile: RNAmodR.ML_1.14.0.tar.gz PackageFileSize: 1.479 MiB