Package: RNAmodR.ML Version: 1.14.0 Command: /Library/Frameworks/R.framework/Resources/bin/R CMD build --keep-empty-dirs --no-resave-data RNAmodR.ML StartedAt: 2023-10-15 20:46:13 -0400 (Sun, 15 Oct 2023) EndedAt: 2023-10-15 20:53:25 -0400 (Sun, 15 Oct 2023) EllapsedTime: 432.7 seconds RetCode: 0 Status: OK PackageFile: RNAmodR.ML_1.14.0.tar.gz PackageFileSize: 1.592 MiB