Package: RNAmodR.ML Version: 1.14.0 Command: rm -rf RNAmodR.ML.buildbin-libdir && mkdir RNAmodR.ML.buildbin-libdir && /Users/biocbuild/BBS/utils/build-universal.sh RNAmodR.ML_1.14.0.tar.gz /Library/Frameworks/R.framework/Resources/bin/R RNAmodR.ML.buildbin-libdir StartedAt: 2023-10-16 10:05:03 -0400 (Mon, 16 Oct 2023) EndedAt: 2023-10-16 10:08:22 -0400 (Mon, 16 Oct 2023) EllapsedTime: 198.6 seconds RetCode: 0 Status: OK PackageFile: RNAmodR.ML_1.14.0.tgz PackageFileSize: 2.004 MiB