Package: RNAinteract Version: 1.48.0 Command: /home/biocbuild/bbs-3.17-bioc/R/bin/R CMD INSTALL RNAinteract StartedAt: 2023-10-15 15:40:59 -0400 (Sun, 15 Oct 2023) EndedAt: 2023-10-15 15:41:28 -0400 (Sun, 15 Oct 2023) EllapsedTime: 28.8 seconds RetCode: 0 Status: OK