Package: RNAinteract Version: 1.48.0 Command: /Library/Frameworks/R.framework/Resources/bin/R CMD build --keep-empty-dirs --no-resave-data RNAinteract StartedAt: 2023-10-15 20:46:02 -0400 (Sun, 15 Oct 2023) EndedAt: 2023-10-15 20:48:25 -0400 (Sun, 15 Oct 2023) EllapsedTime: 142.6 seconds RetCode: 0 Status: OK PackageFile: RNAinteract_1.48.0.tar.gz PackageFileSize: 424.1 KiB