Package: RNAinteract Version: 1.48.0 Command: rm -rf RNAinteract.buildbin-libdir && mkdir RNAinteract.buildbin-libdir && /Users/biocbuild/BBS/utils/build-universal.sh RNAinteract_1.48.0.tar.gz /Library/Frameworks/R.framework/Resources/bin/R RNAinteract.buildbin-libdir StartedAt: 2023-10-16 10:04:58 -0400 (Mon, 16 Oct 2023) EndedAt: 2023-10-16 10:06:45 -0400 (Mon, 16 Oct 2023) EllapsedTime: 107.8 seconds RetCode: 0 Status: OK PackageFile: RNAinteract_1.48.0.tgz PackageFileSize: 950.4 KiB