Package: RGraph2js Version: 1.28.0 Command: chmod a+r RGraph2js -R && F:\biocbuild\bbs-3.17-bioc\R\bin\R.exe CMD build --keep-empty-dirs --no-resave-data RGraph2js StartedAt: 2023-10-15 21:46:29 -0400 (Sun, 15 Oct 2023) EndedAt: 2023-10-15 21:46:47 -0400 (Sun, 15 Oct 2023) EllapsedTime: 18.0 seconds RetCode: 0 Status: OK PackageFile: RGraph2js_1.28.0.tar.gz PackageFileSize: 2.348 MiB