Package: RGraph2js Version: 1.28.0 Command: /home/biocbuild/bbs-3.17-bioc/R/bin/R CMD check --install=check:RGraph2js.install-out.txt --library=/home/biocbuild/bbs-3.17-bioc/R/site-library --timings RGraph2js_1.28.0.tar.gz StartedAt: 2023-10-16 00:24:04 -0400 (Mon, 16 Oct 2023) EndedAt: 2023-10-16 00:24:37 -0400 (Mon, 16 Oct 2023) EllapsedTime: 32.3 seconds RetCode: 0 Status: OK CheckDir: RGraph2js.Rcheck Warnings: 0