Package: RGraph2js Version: 1.28.0 Command: /Library/Frameworks/R.framework/Resources/bin/R CMD build --keep-empty-dirs --no-resave-data RGraph2js StartedAt: 2023-10-15 20:40:04 -0400 (Sun, 15 Oct 2023) EndedAt: 2023-10-15 20:40:31 -0400 (Sun, 15 Oct 2023) EllapsedTime: 27.2 seconds RetCode: 0 Status: OK PackageFile: RGraph2js_1.28.0.tar.gz PackageFileSize: 2.344 MiB