Package: RGSEA Version: 1.34.0 Command: /home/biocbuild/bbs-3.17-bioc/R/bin/R CMD INSTALL RGSEA StartedAt: 2023-10-15 15:06:58 -0400 (Sun, 15 Oct 2023) EndedAt: 2023-10-15 15:07:14 -0400 (Sun, 15 Oct 2023) EllapsedTime: 15.3 seconds RetCode: 0 Status: OK