Package: RGSEA Version: 1.34.0 Command: /home/biocbuild/bbs-3.17-bioc/R/bin/R CMD build --keep-empty-dirs --no-resave-data RGSEA StartedAt: 2023-10-15 18:11:37 -0400 (Sun, 15 Oct 2023) EndedAt: 2023-10-15 18:12:04 -0400 (Sun, 15 Oct 2023) EllapsedTime: 26.2 seconds RetCode: 0 Status: OK PackageFile: RGSEA_1.34.0.tar.gz PackageFileSize: 1.724 MiB