Package: RESOLVE Version: 1.2.0 Command: /home/biocbuild/bbs-3.17-bioc/R/bin/R CMD build --keep-empty-dirs --no-resave-data RESOLVE StartedAt: 2023-10-15 18:10:41 -0400 (Sun, 15 Oct 2023) EndedAt: 2023-10-15 18:11:34 -0400 (Sun, 15 Oct 2023) EllapsedTime: 53.3 seconds RetCode: 0 Status: OK PackageFile: RESOLVE_1.2.0.tar.gz PackageFileSize: 729.7 KiB