Package: RCSL Version: 1.8.0 Command: /home/biocbuild/bbs-3.17-bioc/R/bin/R CMD build --keep-empty-dirs --no-resave-data RCSL StartedAt: 2023-10-15 18:07:55 -0400 (Sun, 15 Oct 2023) EndedAt: 2023-10-15 18:08:21 -0400 (Sun, 15 Oct 2023) EllapsedTime: 25.9 seconds RetCode: 0 Status: OK PackageFile: RCSL_1.8.0.tar.gz PackageFileSize: 1.934 MiB