Package: R453Plus1Toolbox Version: 1.50.0 Command: /home/biocbuild/bbs-3.17-bioc/R/bin/R CMD INSTALL R453Plus1Toolbox StartedAt: 2023-10-15 15:29:52 -0400 (Sun, 15 Oct 2023) EndedAt: 2023-10-15 15:31:01 -0400 (Sun, 15 Oct 2023) EllapsedTime: 69.7 seconds RetCode: 0 Status: OK