Package: ProtGenerics Version: 1.32.0 Command: /home/biocbuild/bbs-3.17-bioc/R/bin/R CMD build --keep-empty-dirs --no-resave-data ProtGenerics StartedAt: 2023-10-15 18:02:13 -0400 (Sun, 15 Oct 2023) EndedAt: 2023-10-15 18:02:14 -0400 (Sun, 15 Oct 2023) EllapsedTime: 0.3 seconds RetCode: 0 Status: OK PackageFile: ProtGenerics_1.32.0.tar.gz PackageFileSize: 8.652 KiB