Package: ProtGenerics Version: 1.32.0 Command: /Library/Frameworks/R.framework/Resources/bin/R CMD INSTALL ProtGenerics StartedAt: 2023-10-15 15:07:44 -0400 (Sun, 15 Oct 2023) EndedAt: 2023-10-15 15:08:25 -0400 (Sun, 15 Oct 2023) EllapsedTime: 41.4 seconds RetCode: 0 Status: OK