Package: ProtGenerics Version: 1.32.0 Command: rm -rf ProtGenerics.buildbin-libdir && mkdir ProtGenerics.buildbin-libdir && /Users/biocbuild/BBS/utils/build-universal.sh ProtGenerics_1.32.0.tar.gz /Library/Frameworks/R.framework/Resources/bin/R ProtGenerics.buildbin-libdir StartedAt: 2023-10-16 09:57:53 -0400 (Mon, 16 Oct 2023) EndedAt: 2023-10-16 09:58:03 -0400 (Mon, 16 Oct 2023) EllapsedTime: 10.4 seconds RetCode: 0 Status: OK PackageFile: ProtGenerics_1.32.0.tgz PackageFileSize: 218.4 KiB