Package: Path2PPI Version: 1.30.0 Command: /Library/Frameworks/R.framework/Resources/bin/R CMD INSTALL Path2PPI StartedAt: 2023-10-15 15:05:54 -0400 (Sun, 15 Oct 2023) EndedAt: 2023-10-15 15:06:33 -0400 (Sun, 15 Oct 2023) EllapsedTime: 39.3 seconds RetCode: 0 Status: OK