Package: Path2PPI Version: 1.30.0 Command: /Library/Frameworks/R.framework/Resources/bin/R CMD build --keep-empty-dirs --no-resave-data Path2PPI StartedAt: 2023-10-15 20:09:06 -0400 (Sun, 15 Oct 2023) EndedAt: 2023-10-15 20:10:07 -0400 (Sun, 15 Oct 2023) EllapsedTime: 61.2 seconds RetCode: 0 Status: OK PackageFile: Path2PPI_1.30.0.tar.gz PackageFileSize: 1.397 MiB