Package: PICS Version: 2.44.0 Command: /home/biocbuild/bbs-3.17-bioc/R/bin/R CMD build --keep-empty-dirs --no-resave-data PICS StartedAt: 2023-10-15 17:58:16 -0400 (Sun, 15 Oct 2023) EndedAt: 2023-10-15 17:59:19 -0400 (Sun, 15 Oct 2023) EllapsedTime: 62.8 seconds RetCode: 0 Status: OK PackageFile: PICS_2.44.0.tar.gz PackageFileSize: 701 KiB