Package: PCAtools Version: 2.12.0 Command: rm -rf PCAtools.buildbin-libdir && mkdir PCAtools.buildbin-libdir && /Users/biocbuild/BBS/utils/build-universal.sh PCAtools_2.12.0.tar.gz /Library/Frameworks/R.framework/Resources/bin/R PCAtools.buildbin-libdir StartedAt: 2023-10-16 09:54:20 -0400 (Mon, 16 Oct 2023) EndedAt: 2023-10-16 09:56:16 -0400 (Mon, 16 Oct 2023) EllapsedTime: 116.3 seconds RetCode: 0 Status: OK PackageFile: PCAtools_2.12.0.tgz PackageFileSize: 5.24 MiB