Package: Organism.dplyr Version: 1.28.0 Command: /home/biocbuild/bbs-3.17-bioc/R/bin/R CMD build --keep-empty-dirs --no-resave-data Organism.dplyr StartedAt: 2023-10-15 17:47:29 -0400 (Sun, 15 Oct 2023) EndedAt: 2023-10-15 17:49:20 -0400 (Sun, 15 Oct 2023) EllapsedTime: 110.8 seconds RetCode: 0 Status: OK PackageFile: Organism.dplyr_1.28.0.tar.gz PackageFileSize: 504.1 KiB